BEGIN:VCALENDAR
PRODID:-
VERSION:2.0
METHOD:PUBLISH
BEGIN:VEVENT
ORGANIZER:MAILTO:
DTSTART:20221011T000000Z
DTEND:20221011T004500Z
LOCATION:ROOM 7P ROOM 7A
TRANSP:OPAQUE
SEQUENCE:0
UID:ALWARD-417443629
DTSTAMP:20221122T195400Z
DESCRIPTION:Class 7P Class 7A Tom Renee Jane
SUMMARY:[Jane] 7 Dance/WAVE
X-MICROSOFT-CDO-IMPORTANCE:1
CLASS:PUBLIC
PRIORITY:5
END:VEVENT
BEGIN:VEVENT
ORGANIZER:MAILTO:
DTSTART:20221018T000000Z
DTEND:20221018T004500Z
LOCATION:ROOM 7P ROOM 7A
TRANSP:OPAQUE
SEQUENCE:0
UID:ALWARD-417509172
DTSTAMP:20221122T195400Z
DESCRIPTION:Class 7P Class 7A Tom Renee Jane
SUMMARY:[Jane] 7 Dance/WAVE
X-MICROSOFT-CDO-IMPORTANCE:1
CLASS:PUBLIC
PRIORITY:5
END:VEVENT
BEGIN:VEVENT
ORGANIZER:MAILTO:
DTSTART:20221025T000000Z
DTEND:20221025T004500Z
LOCATION:ROOM 7P ROOM 7A
TRANSP:OPAQUE
SEQUENCE:0
UID:ALWARD-417574715
DTSTAMP:20221122T195400Z
DESCRIPTION:Class 7P Class 7A Tom Renee Jane
SUMMARY:[Jane] 7 Dance/WAVE
X-MICROSOFT-CDO-IMPORTANCE:1
CLASS:PUBLIC
PRIORITY:5
END:VEVENT
BEGIN:VEVENT
ORGANIZER:MAILTO:
DTSTART:20221101T000000Z
DTEND:20221101T004500Z
LOCATION:ROOM 7P ROOM 7A
TRANSP:OPAQUE
SEQUENCE:0
UID:ALWARD-417640258
DTSTAMP:20221122T195400Z
DESCRIPTION:Class 7P Class 7A Tom Renee Jane
SUMMARY:[Jane] 7 Dance/WAVE
X-MICROSOFT-CDO-IMPORTANCE:1
CLASS:PUBLIC
PRIORITY:5
END:VEVENT
BEGIN:VEVENT
ORGANIZER:MAILTO:
DTSTART:20221014T000000Z
DTEND:20221014T004500Z
LOCATION:ROOM 7P ROOM 7A
TRANSP:OPAQUE
SEQUENCE:0
UID:ALWARD-417705776
DTSTAMP:20221122T195400Z
DESCRIPTION:Class 7P Class 7A Tom Renee Jane
SUMMARY:[Jane] 7 Dance/WAVE
X-MICROSOFT-CDO-IMPORTANCE:1
CLASS:PUBLIC
PRIORITY:5
END:VEVENT
BEGIN:VEVENT
ORGANIZER:MAILTO:
DTSTART:20221021T000000Z
DTEND:20221021T004500Z
LOCATION:ROOM 7P ROOM 7A
TRANSP:OPAQUE
SEQUENCE:0
UID:ALWARD-417771319
DTSTAMP:20221122T195400Z
DESCRIPTION:Class 7P Class 7A Tom Renee Jane
SUMMARY:[Jane] 7 Dance/WAVE
X-MICROSOFT-CDO-IMPORTANCE:1
CLASS:PUBLIC
PRIORITY:5
END:VEVENT
BEGIN:VEVENT
ORGANIZER:MAILTO:
DTSTART:20221028T000000Z
DTEND:20221028T004500Z
LOCATION:ROOM 7P ROOM 7A
TRANSP:OPAQUE
SEQUENCE:0
UID:ALWARD-417836862
DTSTAMP:20221122T195400Z
DESCRIPTION:Class 7P Class 7A Tom Renee Jane
SUMMARY:[Jane] 7 Dance/WAVE
X-MICROSOFT-CDO-IMPORTANCE:1
CLASS:PUBLIC
PRIORITY:5
END:VEVENT
BEGIN:VEVENT
ORGANIZER:MAILTO:
DTSTART:20221104T000000Z
DTEND:20221104T004500Z
LOCATION:ROOM 7P ROOM 7A
TRANSP:OPAQUE
SEQUENCE:0
UID:ALWARD-417902405
DTSTAMP:20221122T195400Z
DESCRIPTION:Class 7P Class 7A Tom Renee Jane
SUMMARY:[Jane] 7 Dance/WAVE
X-MICROSOFT-CDO-IMPORTANCE:1
CLASS:PUBLIC
PRIORITY:5
END:VEVENT
END:VCALENDAR
