BEGIN:VCALENDAR
PRODID:-
VERSION:2.0
METHOD:PUBLISH
BEGIN:VEVENT
ORGANIZER:MAILTO:
DTSTART:20220613T153000Z
DTEND:20220613T161500Z
LOCATION:ROOM 7P ROOM 7A
TRANSP:OPAQUE
SEQUENCE:0
UID:Judy-855617205
DTSTAMP:20221122T195400Z
DESCRIPTION:Class 7P Lachie Class 7A Anja Judy Sarah
SUMMARY:[Judy] 7P Science Bush Regen/Aus Landscapes
X-MICROSOFT-CDO-IMPORTANCE:1
CLASS:PUBLIC
PRIORITY:5
END:VEVENT
BEGIN:VEVENT
ORGANIZER:MAILTO:
DTSTART:20220620T153000Z
DTEND:20220620T161500Z
LOCATION:ROOM 7P ROOM 7A
TRANSP:OPAQUE
SEQUENCE:0
UID:Judy-855682748
DTSTAMP:20221122T195400Z
DESCRIPTION:Class 7P Lachie Class 7A Anja Judy Sarah
SUMMARY:[Judy] 7P Science Bush Regen/Aus Landscapes
X-MICROSOFT-CDO-IMPORTANCE:1
CLASS:PUBLIC
PRIORITY:5
END:VEVENT
BEGIN:VEVENT
ORGANIZER:MAILTO:
DTSTART:20220627T153000Z
DTEND:20220627T161500Z
LOCATION:ROOM 7P ROOM 7A
TRANSP:OPAQUE
SEQUENCE:0
UID:Judy-855748291
DTSTAMP:20221122T195400Z
DESCRIPTION:Class 7P Lachie Class 7A Anja Judy Sarah
SUMMARY:[Judy] 7P Science Bush Regen/Aus Landscapes
X-MICROSOFT-CDO-IMPORTANCE:1
CLASS:PUBLIC
PRIORITY:5
END:VEVENT
BEGIN:VEVENT
ORGANIZER:MAILTO:
DTSTART:20220614T153000Z
DTEND:20220614T161500Z
LOCATION:ROOM 7P ROOM 7A
TRANSP:OPAQUE
SEQUENCE:0
UID:Judy-855813814
DTSTAMP:20221122T195400Z
DESCRIPTION:Class 7P Lachie Class 7A Anja Judy Sarah
SUMMARY:[Judy] 7P Science Bush Regen/Aus Landscapes
X-MICROSOFT-CDO-IMPORTANCE:1
CLASS:PUBLIC
PRIORITY:5
END:VEVENT
BEGIN:VEVENT
ORGANIZER:MAILTO:
DTSTART:20220621T153000Z
DTEND:20220621T161500Z
LOCATION:ROOM 7P ROOM 7A
TRANSP:OPAQUE
SEQUENCE:0
UID:Judy-855879357
DTSTAMP:20221122T195400Z
DESCRIPTION:Class 7P Lachie Class 7A Anja Judy Sarah
SUMMARY:[Judy] 7P Science Bush Regen/Aus Landscapes
X-MICROSOFT-CDO-IMPORTANCE:1
CLASS:PUBLIC
PRIORITY:5
END:VEVENT
BEGIN:VEVENT
ORGANIZER:MAILTO:
DTSTART:20220628T153000Z
DTEND:20220628T161500Z
LOCATION:ROOM 7P ROOM 7A
TRANSP:OPAQUE
SEQUENCE:0
UID:Judy-855944900
DTSTAMP:20221122T195400Z
DESCRIPTION:Class 7P Lachie Class 7A Anja Judy Sarah
SUMMARY:[Judy] 7P Science Bush Regen/Aus Landscapes
X-MICROSOFT-CDO-IMPORTANCE:1
CLASS:PUBLIC
PRIORITY:5
END:VEVENT
BEGIN:VEVENT
ORGANIZER:MAILTO:
DTSTART:20220615T153000Z
DTEND:20220615T161500Z
LOCATION:ROOM 7P ROOM 7A
TRANSP:OPAQUE
SEQUENCE:0
UID:Judy-856010423
DTSTAMP:20221122T195400Z
DESCRIPTION:Class 7P Lachie Class 7A Anja Judy Sarah
SUMMARY:[Judy] 7P Science Bush Regen/Aus Landscapes
X-MICROSOFT-CDO-IMPORTANCE:1
CLASS:PUBLIC
PRIORITY:5
END:VEVENT
BEGIN:VEVENT
ORGANIZER:MAILTO:
DTSTART:20220622T153000Z
DTEND:20220622T161500Z
LOCATION:ROOM 7P ROOM 7A
TRANSP:OPAQUE
SEQUENCE:0
UID:Judy-856075966
DTSTAMP:20221122T195400Z
DESCRIPTION:Class 7P Lachie Class 7A Anja Judy Sarah
SUMMARY:[Judy] 7P Science Bush Regen/Aus Landscapes
X-MICROSOFT-CDO-IMPORTANCE:1
CLASS:PUBLIC
PRIORITY:5
END:VEVENT
BEGIN:VEVENT
ORGANIZER:MAILTO:
DTSTART:20220629T153000Z
DTEND:20220629T161500Z
LOCATION:ROOM 7P ROOM 7A
TRANSP:OPAQUE
SEQUENCE:0
UID:Judy-856141509
DTSTAMP:20221122T195400Z
DESCRIPTION:Class 7P Lachie Class 7A Anja Judy Sarah
SUMMARY:[Judy] 7P Science Bush Regen/Aus Landscapes
X-MICROSOFT-CDO-IMPORTANCE:1
CLASS:PUBLIC
PRIORITY:5
END:VEVENT
BEGIN:VEVENT
ORGANIZER:MAILTO:
DTSTART:20220616T153000Z
DTEND:20220616T161500Z
LOCATION:ROOM 7P
TRANSP:OPAQUE
SEQUENCE:0
UID:Judy-856207032
DTSTAMP:20221122T195400Z
DESCRIPTION:Class 7P Penny Judy Sarah
SUMMARY:[Judy] 7P Science Bush Regen/Aus Landscapes
X-MICROSOFT-CDO-IMPORTANCE:1
CLASS:PUBLIC
PRIORITY:5
END:VEVENT
BEGIN:VEVENT
ORGANIZER:MAILTO:
DTSTART:20220623T153000Z
DTEND:20220623T161500Z
LOCATION:ROOM 7P
TRANSP:OPAQUE
SEQUENCE:0
UID:Judy-856272575
DTSTAMP:20221122T195400Z
DESCRIPTION:Class 7P Penny Judy Sarah
SUMMARY:[Judy] 7P Science Bush Regen/Aus Landscapes
X-MICROSOFT-CDO-IMPORTANCE:1
CLASS:PUBLIC
PRIORITY:5
END:VEVENT
BEGIN:VEVENT
ORGANIZER:MAILTO:
DTSTART:20220630T153000Z
DTEND:20220630T161500Z
LOCATION:ROOM 7P
TRANSP:OPAQUE
SEQUENCE:0
UID:Judy-856338118
DTSTAMP:20221122T195400Z
DESCRIPTION:Class 7P Penny Judy Sarah
SUMMARY:[Judy] 7P Science Bush Regen/Aus Landscapes
X-MICROSOFT-CDO-IMPORTANCE:1
CLASS:PUBLIC
PRIORITY:5
END:VEVENT
BEGIN:VEVENT
ORGANIZER:MAILTO:
DTSTART:20220617T153000Z
DTEND:20220617T161500Z
LOCATION:ROOM 7P ROOM 7A
TRANSP:OPAQUE
SEQUENCE:0
UID:Judy-856403641
DTSTAMP:20221122T195400Z
DESCRIPTION:Class 7P Lachie Class 7A Anja Judy Sarah
SUMMARY:[Judy] 7P Science Bush Regen/Aus Landscapes
X-MICROSOFT-CDO-IMPORTANCE:1
CLASS:PUBLIC
PRIORITY:5
END:VEVENT
BEGIN:VEVENT
ORGANIZER:MAILTO:
DTSTART:20220624T153000Z
DTEND:20220624T161500Z
LOCATION:ROOM 7P ROOM 7A
TRANSP:OPAQUE
SEQUENCE:0
UID:Judy-856469184
DTSTAMP:20221122T195400Z
DESCRIPTION:Class 7P Lachie Class 7A Anja Judy Sarah
SUMMARY:[Judy] 7P Science Bush Regen/Aus Landscapes
X-MICROSOFT-CDO-IMPORTANCE:1
CLASS:PUBLIC
PRIORITY:5
END:VEVENT
BEGIN:VEVENT
ORGANIZER:MAILTO:
DTSTART:20220701T153000Z
DTEND:20220701T161500Z
LOCATION:ROOM 7P ROOM 7A
TRANSP:OPAQUE
SEQUENCE:0
UID:Judy-856534727
DTSTAMP:20221122T195400Z
DESCRIPTION:Class 7P Lachie Class 7A Anja Judy Sarah
SUMMARY:[Judy] 7P Science Bush Regen/Aus Landscapes
X-MICROSOFT-CDO-IMPORTANCE:1
CLASS:PUBLIC
PRIORITY:5
END:VEVENT
END:VCALENDAR
