BEGIN:VCALENDAR
PRODID:-
VERSION:2.0
METHOD:PUBLISH
BEGIN:VEVENT
ORGANIZER:MAILTO:
DTSTART:20221009T220500Z
DTEND:20221009T225000Z
LOCATION:BLUE LAB
TRANSP:OPAQUE
SEQUENCE:0
UID:LESTER-954511148
DTSTAMP:20221122T195400Z
DESCRIPTION:Class 7P Tai Michael
SUMMARY:[Michael] 7P Combustion
X-MICROSOFT-CDO-IMPORTANCE:1
CLASS:PUBLIC
PRIORITY:5
END:VEVENT
BEGIN:VEVENT
ORGANIZER:MAILTO:
DTSTART:20221016T220500Z
DTEND:20221016T225000Z
LOCATION:BLUE LAB
TRANSP:OPAQUE
SEQUENCE:0
UID:LESTER-954576691
DTSTAMP:20221122T195400Z
DESCRIPTION:Class 7P Tai Michael
SUMMARY:[Michael] 7P Combustion
X-MICROSOFT-CDO-IMPORTANCE:1
CLASS:PUBLIC
PRIORITY:5
END:VEVENT
BEGIN:VEVENT
ORGANIZER:MAILTO:
DTSTART:20221023T220500Z
DTEND:20221023T225000Z
LOCATION:BLUE LAB
TRANSP:OPAQUE
SEQUENCE:0
UID:LESTER-954642234
DTSTAMP:20221122T195400Z
DESCRIPTION:Class 7P Tai Michael
SUMMARY:[Michael] 7P Combustion
X-MICROSOFT-CDO-IMPORTANCE:1
CLASS:PUBLIC
PRIORITY:5
END:VEVENT
BEGIN:VEVENT
ORGANIZER:MAILTO:
DTSTART:20221030T220500Z
DTEND:20221030T225000Z
LOCATION:BLUE LAB
TRANSP:OPAQUE
SEQUENCE:0
UID:LESTER-954707777
DTSTAMP:20221122T195400Z
DESCRIPTION:Class 7P Tai Michael
SUMMARY:[Michael] 7P Combustion
X-MICROSOFT-CDO-IMPORTANCE:1
CLASS:PUBLIC
PRIORITY:5
END:VEVENT
BEGIN:VEVENT
ORGANIZER:MAILTO:
DTSTART:20221010T220500Z
DTEND:20221010T225000Z
LOCATION:BLUE LAB
TRANSP:OPAQUE
SEQUENCE:0
UID:LESTER-954773293
DTSTAMP:20221122T195400Z
DESCRIPTION:Class 7P Tai Michael
SUMMARY:[Michael] 7P Combustion
X-MICROSOFT-CDO-IMPORTANCE:1
CLASS:PUBLIC
PRIORITY:5
END:VEVENT
BEGIN:VEVENT
ORGANIZER:MAILTO:
DTSTART:20221017T220500Z
DTEND:20221017T225000Z
LOCATION:BLUE LAB
TRANSP:OPAQUE
SEQUENCE:0
UID:LESTER-954838836
DTSTAMP:20221122T195400Z
DESCRIPTION:Class 7P Tai Michael
SUMMARY:[Michael] 7P Combustion
X-MICROSOFT-CDO-IMPORTANCE:1
CLASS:PUBLIC
PRIORITY:5
END:VEVENT
BEGIN:VEVENT
ORGANIZER:MAILTO:
DTSTART:20221024T220500Z
DTEND:20221024T225000Z
LOCATION:BLUE LAB
TRANSP:OPAQUE
SEQUENCE:0
UID:LESTER-954904379
DTSTAMP:20221122T195400Z
DESCRIPTION:Class 7P Tai Michael
SUMMARY:[Michael] 7P Combustion
X-MICROSOFT-CDO-IMPORTANCE:1
CLASS:PUBLIC
PRIORITY:5
END:VEVENT
BEGIN:VEVENT
ORGANIZER:MAILTO:
DTSTART:20221031T220500Z
DTEND:20221031T225000Z
LOCATION:BLUE LAB
TRANSP:OPAQUE
SEQUENCE:0
UID:LESTER-954969922
DTSTAMP:20221122T195400Z
DESCRIPTION:Class 7P Tai Michael
SUMMARY:[Michael] 7P Combustion
X-MICROSOFT-CDO-IMPORTANCE:1
CLASS:PUBLIC
PRIORITY:5
END:VEVENT
BEGIN:VEVENT
ORGANIZER:MAILTO:
DTSTART:20221011T220500Z
DTEND:20221011T225000Z
LOCATION:BLUE LAB
TRANSP:OPAQUE
SEQUENCE:0
UID:LESTER-955035438
DTSTAMP:20221122T195400Z
DESCRIPTION:Class 7P Tai Michael
SUMMARY:[Michael] 7P Combustion
X-MICROSOFT-CDO-IMPORTANCE:1
CLASS:PUBLIC
PRIORITY:5
END:VEVENT
BEGIN:VEVENT
ORGANIZER:MAILTO:
DTSTART:20221018T220500Z
DTEND:20221018T225000Z
LOCATION:BLUE LAB
TRANSP:OPAQUE
SEQUENCE:0
UID:LESTER-955100981
DTSTAMP:20221122T195400Z
DESCRIPTION:Class 7P Tai Michael
SUMMARY:[Michael] 7P Combustion
X-MICROSOFT-CDO-IMPORTANCE:1
CLASS:PUBLIC
PRIORITY:5
END:VEVENT
BEGIN:VEVENT
ORGANIZER:MAILTO:
DTSTART:20221025T220500Z
DTEND:20221025T225000Z
LOCATION:BLUE LAB
TRANSP:OPAQUE
SEQUENCE:0
UID:LESTER-955166524
DTSTAMP:20221122T195400Z
DESCRIPTION:Class 7P Tai Michael
SUMMARY:[Michael] 7P Combustion
X-MICROSOFT-CDO-IMPORTANCE:1
CLASS:PUBLIC
PRIORITY:5
END:VEVENT
BEGIN:VEVENT
ORGANIZER:MAILTO:
DTSTART:20221101T220500Z
DTEND:20221101T225000Z
LOCATION:BLUE LAB
TRANSP:OPAQUE
SEQUENCE:0
UID:LESTER-955232067
DTSTAMP:20221122T195400Z
DESCRIPTION:Class 7P Tai Michael
SUMMARY:[Michael] 7P Combustion
X-MICROSOFT-CDO-IMPORTANCE:1
CLASS:PUBLIC
PRIORITY:5
END:VEVENT
BEGIN:VEVENT
ORGANIZER:MAILTO:
DTSTART:20221012T220500Z
DTEND:20221012T225000Z
LOCATION:BLUE LAB
TRANSP:OPAQUE
SEQUENCE:0
UID:LESTER-955297583
DTSTAMP:20221122T195400Z
DESCRIPTION:Class 7P Tai Michael
SUMMARY:[Michael] 7P Combustion
X-MICROSOFT-CDO-IMPORTANCE:1
CLASS:PUBLIC
PRIORITY:5
END:VEVENT
BEGIN:VEVENT
ORGANIZER:MAILTO:
DTSTART:20221019T220500Z
DTEND:20221019T225000Z
LOCATION:BLUE LAB
TRANSP:OPAQUE
SEQUENCE:0
UID:LESTER-955363126
DTSTAMP:20221122T195400Z
DESCRIPTION:Class 7P Tai Michael
SUMMARY:[Michael] 7P Combustion
X-MICROSOFT-CDO-IMPORTANCE:1
CLASS:PUBLIC
PRIORITY:5
END:VEVENT
BEGIN:VEVENT
ORGANIZER:MAILTO:
DTSTART:20221026T220500Z
DTEND:20221026T225000Z
LOCATION:BLUE LAB
TRANSP:OPAQUE
SEQUENCE:0
UID:LESTER-955428669
DTSTAMP:20221122T195400Z
DESCRIPTION:Class 7P Tai Michael
SUMMARY:[Michael] 7P Combustion
X-MICROSOFT-CDO-IMPORTANCE:1
CLASS:PUBLIC
PRIORITY:5
END:VEVENT
BEGIN:VEVENT
ORGANIZER:MAILTO:
DTSTART:20221102T220500Z
DTEND:20221102T225000Z
LOCATION:BLUE LAB
TRANSP:OPAQUE
SEQUENCE:0
UID:LESTER-955494212
DTSTAMP:20221122T195400Z
DESCRIPTION:Class 7P Tai Michael
SUMMARY:[Michael] 7P Combustion
X-MICROSOFT-CDO-IMPORTANCE:1
CLASS:PUBLIC
PRIORITY:5
END:VEVENT
BEGIN:VEVENT
ORGANIZER:MAILTO:
DTSTART:20221013T220500Z
DTEND:20221013T225000Z
LOCATION:BLUE LAB
TRANSP:OPAQUE
SEQUENCE:0
UID:LESTER-955559728
DTSTAMP:20221122T195400Z
DESCRIPTION:Class 7P Tai Michael
SUMMARY:[Michael] 7P Combustion
X-MICROSOFT-CDO-IMPORTANCE:1
CLASS:PUBLIC
PRIORITY:5
END:VEVENT
BEGIN:VEVENT
ORGANIZER:MAILTO:
DTSTART:20221020T220500Z
DTEND:20221020T225000Z
LOCATION:BLUE LAB
TRANSP:OPAQUE
SEQUENCE:0
UID:LESTER-955625271
DTSTAMP:20221122T195400Z
DESCRIPTION:Class 7P Tai Michael
SUMMARY:[Michael] 7P Combustion
X-MICROSOFT-CDO-IMPORTANCE:1
CLASS:PUBLIC
PRIORITY:5
END:VEVENT
BEGIN:VEVENT
ORGANIZER:MAILTO:
DTSTART:20221027T220500Z
DTEND:20221027T225000Z
LOCATION:BLUE LAB
TRANSP:OPAQUE
SEQUENCE:0
UID:LESTER-955690814
DTSTAMP:20221122T195400Z
DESCRIPTION:Class 7P Tai Michael
SUMMARY:[Michael] 7P Combustion
X-MICROSOFT-CDO-IMPORTANCE:1
CLASS:PUBLIC
PRIORITY:5
END:VEVENT
BEGIN:VEVENT
ORGANIZER:MAILTO:
DTSTART:20221103T220500Z
DTEND:20221103T225000Z
LOCATION:BLUE LAB
TRANSP:OPAQUE
SEQUENCE:0
UID:LESTER-955756357
DTSTAMP:20221122T195400Z
DESCRIPTION:Class 7P Tai Michael
SUMMARY:[Michael] 7P Combustion
X-MICROSOFT-CDO-IMPORTANCE:1
CLASS:PUBLIC
PRIORITY:5
END:VEVENT
BEGIN:VEVENT
ORGANIZER:MAILTO:
DTSTART:20221127T220500Z
DTEND:20221127T225000Z
LOCATION:BLUE LAB
TRANSP:OPAQUE
SEQUENCE:0
UID:LESTER-955821917
DTSTAMP:20221122T195400Z
DESCRIPTION:Class 7A Tai Michael
SUMMARY:[Michael] 7A Combustion
X-MICROSOFT-CDO-IMPORTANCE:1
CLASS:PUBLIC
PRIORITY:5
END:VEVENT
BEGIN:VEVENT
ORGANIZER:MAILTO:
DTSTART:20221204T220500Z
DTEND:20221204T225000Z
LOCATION:BLUE LAB
TRANSP:OPAQUE
SEQUENCE:0
UID:LESTER-955887460
DTSTAMP:20221122T195400Z
DESCRIPTION:Class 7A Tai Michael
SUMMARY:[Michael] 7A Combustion
X-MICROSOFT-CDO-IMPORTANCE:1
CLASS:PUBLIC
PRIORITY:5
END:VEVENT
BEGIN:VEVENT
ORGANIZER:MAILTO:
DTSTART:20221211T220500Z
DTEND:20221211T225000Z
LOCATION:BLUE LAB
TRANSP:OPAQUE
SEQUENCE:0
UID:LESTER-955953003
DTSTAMP:20221122T195400Z
DESCRIPTION:Class 7A Tai Michael
SUMMARY:[Michael] 7A Combustion
X-MICROSOFT-CDO-IMPORTANCE:1
CLASS:PUBLIC
PRIORITY:5
END:VEVENT
BEGIN:VEVENT
ORGANIZER:MAILTO:
DTSTART:20221128T220500Z
DTEND:20221128T225000Z
LOCATION:BLUE LAB
TRANSP:OPAQUE
SEQUENCE:0
UID:LESTER-956018526
DTSTAMP:20221122T195400Z
DESCRIPTION:Class 7A Tai Michael
SUMMARY:[Michael] 7A Combustion
X-MICROSOFT-CDO-IMPORTANCE:1
CLASS:PUBLIC
PRIORITY:5
END:VEVENT
BEGIN:VEVENT
ORGANIZER:MAILTO:
DTSTART:20221205T220500Z
DTEND:20221205T225000Z
LOCATION:BLUE LAB
TRANSP:OPAQUE
SEQUENCE:0
UID:LESTER-956084069
DTSTAMP:20221122T195400Z
DESCRIPTION:Class 7A Tai Michael
SUMMARY:[Michael] 7A Combustion
X-MICROSOFT-CDO-IMPORTANCE:1
CLASS:PUBLIC
PRIORITY:5
END:VEVENT
BEGIN:VEVENT
ORGANIZER:MAILTO:
DTSTART:20221212T220500Z
DTEND:20221212T225000Z
LOCATION:BLUE LAB
TRANSP:OPAQUE
SEQUENCE:0
UID:LESTER-956149612
DTSTAMP:20221122T195400Z
DESCRIPTION:Class 7A Tai Michael
SUMMARY:[Michael] 7A Combustion
X-MICROSOFT-CDO-IMPORTANCE:1
CLASS:PUBLIC
PRIORITY:5
END:VEVENT
BEGIN:VEVENT
ORGANIZER:MAILTO:
DTSTART:20221129T220500Z
DTEND:20221129T225000Z
LOCATION:BLUE LAB
TRANSP:OPAQUE
SEQUENCE:0
UID:LESTER-956215135
DTSTAMP:20221122T195400Z
DESCRIPTION:Class 7A Tai Michael
SUMMARY:[Michael] 7A Combustion
X-MICROSOFT-CDO-IMPORTANCE:1
CLASS:PUBLIC
PRIORITY:5
END:VEVENT
BEGIN:VEVENT
ORGANIZER:MAILTO:
DTSTART:20221206T220500Z
DTEND:20221206T225000Z
LOCATION:BLUE LAB
TRANSP:OPAQUE
SEQUENCE:0
UID:LESTER-956280678
DTSTAMP:20221122T195400Z
DESCRIPTION:Class 7A Tai Michael
SUMMARY:[Michael] 7A Combustion
X-MICROSOFT-CDO-IMPORTANCE:1
CLASS:PUBLIC
PRIORITY:5
END:VEVENT
BEGIN:VEVENT
ORGANIZER:MAILTO:
DTSTART:20221213T220500Z
DTEND:20221213T225000Z
LOCATION:BLUE LAB
TRANSP:OPAQUE
SEQUENCE:0
UID:LESTER-956346221
DTSTAMP:20221122T195400Z
DESCRIPTION:Class 7A Tai Michael
SUMMARY:[Michael] 7A Combustion
X-MICROSOFT-CDO-IMPORTANCE:1
CLASS:PUBLIC
PRIORITY:5
END:VEVENT
BEGIN:VEVENT
ORGANIZER:MAILTO:
DTSTART:20221130T220500Z
DTEND:20221130T225000Z
LOCATION:BLUE LAB
TRANSP:OPAQUE
SEQUENCE:0
UID:LESTER-956411744
DTSTAMP:20221122T195400Z
DESCRIPTION:Class 7A Tai Michael
SUMMARY:[Michael] 7A Combustion
X-MICROSOFT-CDO-IMPORTANCE:1
CLASS:PUBLIC
PRIORITY:5
END:VEVENT
BEGIN:VEVENT
ORGANIZER:MAILTO:
DTSTART:20221207T220500Z
DTEND:20221207T225000Z
LOCATION:BLUE LAB
TRANSP:OPAQUE
SEQUENCE:0
UID:LESTER-956477287
DTSTAMP:20221122T195400Z
DESCRIPTION:Class 7A Tai Michael
SUMMARY:[Michael] 7A Combustion
X-MICROSOFT-CDO-IMPORTANCE:1
CLASS:PUBLIC
PRIORITY:5
END:VEVENT
BEGIN:VEVENT
ORGANIZER:MAILTO:
DTSTART:20221214T220500Z
DTEND:20221214T225000Z
LOCATION:BLUE LAB
TRANSP:OPAQUE
SEQUENCE:0
UID:LESTER-956542830
DTSTAMP:20221122T195400Z
DESCRIPTION:Class 7A Tai Michael
SUMMARY:[Michael] 7A Combustion
X-MICROSOFT-CDO-IMPORTANCE:1
CLASS:PUBLIC
PRIORITY:5
END:VEVENT
BEGIN:VEVENT
ORGANIZER:MAILTO:
DTSTART:20221201T220500Z
DTEND:20221201T225000Z
LOCATION:BLUE LAB
TRANSP:OPAQUE
SEQUENCE:0
UID:LESTER-956608353
DTSTAMP:20221122T195400Z
DESCRIPTION:Class 7A Michael
SUMMARY:[Michael] 7A Combustion Fri
X-MICROSOFT-CDO-IMPORTANCE:1
CLASS:PUBLIC
PRIORITY:5
END:VEVENT
BEGIN:VEVENT
ORGANIZER:MAILTO:
DTSTART:20221208T220500Z
DTEND:20221208T225000Z
LOCATION:BLUE LAB
TRANSP:OPAQUE
SEQUENCE:0
UID:LESTER-956673896
DTSTAMP:20221122T195400Z
DESCRIPTION:Class 7A Michael
SUMMARY:[Michael] 7A Combustion Fri
X-MICROSOFT-CDO-IMPORTANCE:1
CLASS:PUBLIC
PRIORITY:5
END:VEVENT
BEGIN:VEVENT
ORGANIZER:MAILTO:
DTSTART:20221215T220500Z
DTEND:20221215T225000Z
LOCATION:BLUE LAB
TRANSP:OPAQUE
SEQUENCE:0
UID:LESTER-956739439
DTSTAMP:20221122T195400Z
DESCRIPTION:Class 7A Michael
SUMMARY:[Michael] 7A Combustion Fri
X-MICROSOFT-CDO-IMPORTANCE:1
CLASS:PUBLIC
PRIORITY:5
END:VEVENT
END:VCALENDAR
