BEGIN:VCALENDAR
PRODID:-
VERSION:2.0
METHOD:PUBLISH
BEGIN:VEVENT
ORGANIZER:MAILTO:
DTSTART:20231106T153000Z
DTEND:20231106T161500Z
LOCATION:BLUE LAB
TRANSP:OPAQUE
SEQUENCE:0
UID:LESTER-761376948
DTSTAMP:20231112T100900Z
DESCRIPTION:Class 7D Tai Michael L
SUMMARY:[Michael L] 7D Combustion
X-MICROSOFT-CDO-IMPORTANCE:1
CLASS:PUBLIC
PRIORITY:5
END:VEVENT
BEGIN:VEVENT
ORGANIZER:MAILTO:
DTSTART:20231113T153000Z
DTEND:20231113T161500Z
LOCATION:BLUE LAB
TRANSP:OPAQUE
SEQUENCE:0
UID:LESTER-761442491
DTSTAMP:20231112T100900Z
DESCRIPTION:Class 7D Tai Michael L
SUMMARY:[Michael L] 7D Combustion
X-MICROSOFT-CDO-IMPORTANCE:1
CLASS:PUBLIC
PRIORITY:5
END:VEVENT
BEGIN:VEVENT
ORGANIZER:MAILTO:
DTSTART:20231120T153000Z
DTEND:20231120T161500Z
LOCATION:BLUE LAB
TRANSP:OPAQUE
SEQUENCE:0
UID:LESTER-761508034
DTSTAMP:20231112T100900Z
DESCRIPTION:Class 7D Tai Michael L
SUMMARY:[Michael L] 7D Combustion
X-MICROSOFT-CDO-IMPORTANCE:1
CLASS:PUBLIC
PRIORITY:5
END:VEVENT
BEGIN:VEVENT
ORGANIZER:MAILTO:
DTSTART:20231106T220500Z
DTEND:20231106T225000Z
LOCATION:BLUE LAB
TRANSP:OPAQUE
SEQUENCE:0
UID:LESTER-761573557
DTSTAMP:20231112T100900Z
DESCRIPTION:Class 7D Tai Michael L
SUMMARY:[Michael L] 7D Combustion
X-MICROSOFT-CDO-IMPORTANCE:1
CLASS:PUBLIC
PRIORITY:5
END:VEVENT
BEGIN:VEVENT
ORGANIZER:MAILTO:
DTSTART:20231113T220500Z
DTEND:20231113T225000Z
LOCATION:BLUE LAB
TRANSP:OPAQUE
SEQUENCE:0
UID:LESTER-761639100
DTSTAMP:20231112T100900Z
DESCRIPTION:Class 7D Tai Michael L
SUMMARY:[Michael L] 7D Combustion
X-MICROSOFT-CDO-IMPORTANCE:1
CLASS:PUBLIC
PRIORITY:5
END:VEVENT
BEGIN:VEVENT
ORGANIZER:MAILTO:
DTSTART:20231120T220500Z
DTEND:20231120T225000Z
LOCATION:BLUE LAB
TRANSP:OPAQUE
SEQUENCE:0
UID:LESTER-761704643
DTSTAMP:20231112T100900Z
DESCRIPTION:Class 7D Tai Michael L
SUMMARY:[Michael L] 7D Combustion
X-MICROSOFT-CDO-IMPORTANCE:1
CLASS:PUBLIC
PRIORITY:5
END:VEVENT
BEGIN:VEVENT
ORGANIZER:MAILTO:
DTSTART:20231107T220500Z
DTEND:20231107T225000Z
LOCATION:BLUE LAB
TRANSP:OPAQUE
SEQUENCE:0
UID:LESTER-761770166
DTSTAMP:20231112T100900Z
DESCRIPTION:Class 7D Michael L Michael G
SUMMARY:[Michael L] 7D Combustion M+M
X-MICROSOFT-CDO-IMPORTANCE:1
CLASS:PUBLIC
PRIORITY:5
END:VEVENT
BEGIN:VEVENT
ORGANIZER:MAILTO:
DTSTART:20231114T220500Z
DTEND:20231114T225000Z
LOCATION:BLUE LAB
TRANSP:OPAQUE
SEQUENCE:0
UID:LESTER-761835709
DTSTAMP:20231112T100900Z
DESCRIPTION:Class 7D Michael L Michael G
SUMMARY:[Michael L] 7D Combustion M+M
X-MICROSOFT-CDO-IMPORTANCE:1
CLASS:PUBLIC
PRIORITY:5
END:VEVENT
BEGIN:VEVENT
ORGANIZER:MAILTO:
DTSTART:20231121T220500Z
DTEND:20231121T225000Z
LOCATION:BLUE LAB
TRANSP:OPAQUE
SEQUENCE:0
UID:LESTER-761901252
DTSTAMP:20231112T100900Z
DESCRIPTION:Class 7D Michael L Michael G
SUMMARY:[Michael L] 7D Combustion M+M
X-MICROSOFT-CDO-IMPORTANCE:1
CLASS:PUBLIC
PRIORITY:5
END:VEVENT
BEGIN:VEVENT
ORGANIZER:MAILTO:
DTSTART:20231110T153000Z
DTEND:20231110T161500Z
LOCATION:BLUE LAB
TRANSP:OPAQUE
SEQUENCE:0
UID:LESTER-761966776
DTSTAMP:20231112T100900Z
DESCRIPTION:Class 7D Tai Michael L
SUMMARY:[Michael L] 7D Combustion
X-MICROSOFT-CDO-IMPORTANCE:1
CLASS:PUBLIC
PRIORITY:5
END:VEVENT
BEGIN:VEVENT
ORGANIZER:MAILTO:
DTSTART:20231117T153000Z
DTEND:20231117T161500Z
LOCATION:BLUE LAB
TRANSP:OPAQUE
SEQUENCE:0
UID:LESTER-762032319
DTSTAMP:20231112T100900Z
DESCRIPTION:Class 7D Tai Michael L
SUMMARY:[Michael L] 7D Combustion
X-MICROSOFT-CDO-IMPORTANCE:1
CLASS:PUBLIC
PRIORITY:5
END:VEVENT
BEGIN:VEVENT
ORGANIZER:MAILTO:
DTSTART:20231124T153000Z
DTEND:20231124T161500Z
LOCATION:BLUE LAB
TRANSP:OPAQUE
SEQUENCE:0
UID:LESTER-762097862
DTSTAMP:20231112T100900Z
DESCRIPTION:Class 7D Tai Michael L
SUMMARY:[Michael L] 7D Combustion
X-MICROSOFT-CDO-IMPORTANCE:1
CLASS:PUBLIC
PRIORITY:5
END:VEVENT
END:VCALENDAR
