BEGIN:VCALENDAR
PRODID:-
VERSION:2.0
METHOD:PUBLISH
BEGIN:VEVENT
ORGANIZER:MAILTO:
DTSTART:20230524T220500Z
DTEND:20230524T225000Z
LOCATION:ROOM 7C Multi - Purpose Room
TRANSP:OPAQUE
SEQUENCE:0
UID:MultiPurpose-1294053391
DTSTAMP:20231112T101000Z
DESCRIPTION:Class 7C Katsuko Chicken
SUMMARY:[Multi - Purpose Room] 7C LOTE Japanese T2B2 Th/F
X-MICROSOFT-CDO-IMPORTANCE:1
CLASS:PUBLIC
PRIORITY:5
END:VEVENT
BEGIN:VEVENT
ORGANIZER:MAILTO:
DTSTART:20230531T220500Z
DTEND:20230531T225000Z
LOCATION:ROOM 7C Multi - Purpose Room
TRANSP:OPAQUE
SEQUENCE:0
UID:MultiPurpose-1294118934
DTSTAMP:20231112T101000Z
DESCRIPTION:Class 7C Katsuko Chicken
SUMMARY:[Multi - Purpose Room] 7C LOTE Japanese T2B2 Th/F
X-MICROSOFT-CDO-IMPORTANCE:1
CLASS:PUBLIC
PRIORITY:5
END:VEVENT
BEGIN:VEVENT
ORGANIZER:MAILTO:
DTSTART:20230607T220500Z
DTEND:20230607T225000Z
LOCATION:ROOM 7C Multi - Purpose Room
TRANSP:OPAQUE
SEQUENCE:0
UID:MultiPurpose-1294184477
DTSTAMP:20231112T101000Z
DESCRIPTION:Class 7C Katsuko Chicken
SUMMARY:[Multi - Purpose Room] 7C LOTE Japanese T2B2 Th/F
X-MICROSOFT-CDO-IMPORTANCE:1
CLASS:PUBLIC
PRIORITY:5
END:VEVENT
BEGIN:VEVENT
ORGANIZER:MAILTO:
DTSTART:20230525T220500Z
DTEND:20230525T225000Z
LOCATION:ROOM 7C Multi - Purpose Room
TRANSP:OPAQUE
SEQUENCE:0
UID:MultiPurpose-1294250000
DTSTAMP:20231112T101000Z
DESCRIPTION:Class 7C Katsuko Chicken
SUMMARY:[Multi - Purpose Room] 7C LOTE Japanese T2B2 Th/F
X-MICROSOFT-CDO-IMPORTANCE:1
CLASS:PUBLIC
PRIORITY:5
END:VEVENT
BEGIN:VEVENT
ORGANIZER:MAILTO:
DTSTART:20230601T220500Z
DTEND:20230601T225000Z
LOCATION:ROOM 7C Multi - Purpose Room
TRANSP:OPAQUE
SEQUENCE:0
UID:MultiPurpose-1294315543
DTSTAMP:20231112T101000Z
DESCRIPTION:Class 7C Katsuko Chicken
SUMMARY:[Multi - Purpose Room] 7C LOTE Japanese T2B2 Th/F
X-MICROSOFT-CDO-IMPORTANCE:1
CLASS:PUBLIC
PRIORITY:5
END:VEVENT
BEGIN:VEVENT
ORGANIZER:MAILTO:
DTSTART:20230608T220500Z
DTEND:20230608T225000Z
LOCATION:ROOM 7C Multi - Purpose Room
TRANSP:OPAQUE
SEQUENCE:0
UID:MultiPurpose-1294381086
DTSTAMP:20231112T101000Z
DESCRIPTION:Class 7C Katsuko Chicken
SUMMARY:[Multi - Purpose Room] 7C LOTE Japanese T2B2 Th/F
X-MICROSOFT-CDO-IMPORTANCE:1
CLASS:PUBLIC
PRIORITY:5
END:VEVENT
BEGIN:VEVENT
ORGANIZER:MAILTO:
DTSTART:20230526T000000Z
DTEND:20230526T004500Z
LOCATION:ROOM 7C Multi - Purpose Room
TRANSP:OPAQUE
SEQUENCE:0
UID:MultiPurpose-1294446608
DTSTAMP:20231112T101000Z
DESCRIPTION:Class 7C Katsuko Chicken
SUMMARY:[Multi - Purpose Room] 7C LOTE Japanese T2B2 Th/F
X-MICROSOFT-CDO-IMPORTANCE:1
CLASS:PUBLIC
PRIORITY:5
END:VEVENT
BEGIN:VEVENT
ORGANIZER:MAILTO:
DTSTART:20230602T000000Z
DTEND:20230602T004500Z
LOCATION:ROOM 7C Multi - Purpose Room
TRANSP:OPAQUE
SEQUENCE:0
UID:MultiPurpose-1294512151
DTSTAMP:20231112T101000Z
DESCRIPTION:Class 7C Katsuko Chicken
SUMMARY:[Multi - Purpose Room] 7C LOTE Japanese T2B2 Th/F
X-MICROSOFT-CDO-IMPORTANCE:1
CLASS:PUBLIC
PRIORITY:5
END:VEVENT
BEGIN:VEVENT
ORGANIZER:MAILTO:
DTSTART:20230609T000000Z
DTEND:20230609T004500Z
LOCATION:ROOM 7C Multi - Purpose Room
TRANSP:OPAQUE
SEQUENCE:0
UID:MultiPurpose-1294577694
DTSTAMP:20231112T101000Z
DESCRIPTION:Class 7C Katsuko Chicken
SUMMARY:[Multi - Purpose Room] 7C LOTE Japanese T2B2 Th/F
X-MICROSOFT-CDO-IMPORTANCE:1
CLASS:PUBLIC
PRIORITY:5
END:VEVENT
END:VCALENDAR
